BEGIN:VCALENDAR
VERSION:2.0
METHOD:PUBLISH
X-WR-CALNAME:iceboating.net |  August 31 2013- December 29 2013
PRODID:-//strange bird labs//Drupal iCal API//EN
BEGIN:VEVENT
DTSTAMP;VALUE=DATE-TIME:20260424T113843Z
DTSTART;VALUE=DATE-TIME:20131206T170000Z
DTEND;VALUE=DATE-TIME:20131206T170000Z
UID:http://iceboating.net/node/3837
URL;VALUE=URI:http://iceboating.net/node/3837
SUMMARY:The Great Western Challenge Regatta - IS ON!
DESCRIPTION:<p>The Great Western Challenge Regatta is scheduled for December 6\,7\, and 8. Best ice in Minnesota. Scrub racing on Friday and scored racing on Saturday and Sunday. DN fleet and Opti fleet. Lodging information to be anounced.</p>
 <p><b>NEXT UPDATE Friday MORNING</b></p>
 <p>Primary Location\:<br />
 <strike>Buffalo\, Minnesota</strike><br />
 La Crosse\, Wisconsin!</p>
 <p>Launch site in Lacrosse\: <a href=\\"https\://maps.google.com/maps?ll=43.891151\,-91.269865&amp\;spn=0.047628\,0.074244&amp\;t=h&amp\;z=14&amp\;lci=com.panoramio.all\,com.google.webcams\,weather\\" target=\\"_blank\\">Louis Nelson County Park</a></p>
 
END:VEVENT
END:VCALENDAR
